BEGIN:VCALENDAR
VERSION:2.0
PRODID:-//wp-events-plugin.com//7.2.3.1//EN
BEGIN:VEVENT
UID:8429@visitlebanonky.com
DTSTART;TZID=America/Kentucky/Louisville:20251203T000000
DTEND;TZID=America/Kentucky/Louisville:20251221T000000
DTSTAMP:20251204T034529Z
URL:https://visitlebanonky.com/events/loretto-city-limits-christmas-decora
 ting-contest/
SUMMARY:Loretto City Limits Christmas Decorating Contest
DESCRIPTION:Start your decorating. 
ATTACH;FMTTYPE=image/jpeg:https://visitlebanonky.com/wp-content/uploads/20
 25/12/beautify-lorett.jpg
CATEGORIES:Community
LOCATION:CITY LIMITS OF LORETTO\, CITY LIMITS OF LORETTO\, LORETTO\, KY\, 4
 0037\, Marion County\, United States
X-APPLE-STRUCTURED-LOCATION;VALUE=URI;X-ADDRESS=CITY LIMITS OF LORETTO\, LO
 RETTO\, KY\, 40037\, Marion County\, United States;X-APPLE-RADIUS=100;X-TI
 TLE=CITY LIMITS OF LORETTO:geo:0,0
END:VEVENT
BEGIN:VTIMEZONE
TZID:America/Kentucky/Louisville
X-LIC-LOCATION:America/Kentucky/Louisville
BEGIN:STANDARD
DTSTART:20251102T010000
TZOFFSETFROM:-0400
TZOFFSETTO:-0500
TZNAME:EST
END:STANDARD
END:VTIMEZONE
END:VCALENDAR