BEGIN:VCALENDAR
VERSION:2.0
PRODID:-//wp-events-plugin.com//7.2.3.1//EN
BEGIN:VEVENT
UID:6287@visitlebanonky.com
DTSTART;TZID=America/Kentucky/Louisville:20241123T120000
DTEND;TZID=America/Kentucky/Louisville:20241123T130000
DTSTAMP:20241017T210000Z
URL:https://visitlebanonky.com/events/loretto-community-thanksgiving-dinne
 r/
SUMMARY:Loretto Community Thanksgiving Dinner
DESCRIPTION:From Facebook:\nTaste and See Ministry\, Inc is at Loretto\, Ke
 ntucky City Hall.\n\nThis is the flyer for the Loretto Community Thanksgiv
 ing Dinner November 23rd. We're cooking about 600 meals\; turkey\, mashed 
 taters\, dressing\, gravy\, green beans\, a roll\, and dessert. Planning o
 n 500 dining in at Loretto City Hall\, or carrying out\, and about 100 del
 ivered. There will be tea\, sodas\, water\, and coffee served for dine-in 
 and carry-out. We'll serve till we run out of food. \nThis meal is for eve
 ryone. It doesn't matter if you're the wealthiest or struggling. This is t
 o show the love of Jesus to all and for all to have dinner together in fel
 lowship. This is how Taste and See Ministry operates. We deliver meals to 
 the physically hungry and spiritually hungry. To those whose bellies are e
 mpty or maybe feeling empty inside. To the lonely and those who just need 
 someone to care about them. There has  been so much community support for 
 this ministry and this dinner is our way of showing our appreciation and l
 ove.\nWe want people to have the opportunity to give and you can do so by 
 donating to our Loretto Foodland account  #502. You can call to pay by car
 d and of course pay in person in the store. You can also give directly to 
 the ministry by going to: \nWebsite: tasteandseeministry.org \nPayPal: Tas
 te and See Ministry\, Inc \nVenmo: @tasteandseeministry\nAny businesses th
 at would like to donate desserts are greatly appreciated. \nFor God is the
  one who provides seed for the farmer and then bread to eat. In the same w
 ay\, he will provide and increase your resources and then produce a great 
 harvest of generosity in you.\nYes\, you will be enriched in every way so 
 that you can always be generous. And when we take your gifts to those who 
 need them\, they will thank God. ~2 Corinthians 9:10-11
ATTACH;FMTTYPE=image/jpeg:https://visitlebanonky.com/wp-content/uploads/20
 24/10/Loretto-turkey.jpg
CATEGORIES:Community
LOCATION:Loretto City Hall\, 72 School Drive\, Loretto\, Kentucky\, 40037\,
  Marion County\, United States
GEO:37.63671;-85.405202
X-APPLE-STRUCTURED-LOCATION;VALUE=URI;X-ADDRESS=72 School Drive\, Loretto\,
  Kentucky\, 40037\, Marion County\, United States;X-APPLE-RADIUS=100;X-TIT
 LE=Loretto City Hall:geo:37.63671,-85.405202
END:VEVENT
BEGIN:VTIMEZONE
TZID:America/Kentucky/Louisville
X-LIC-LOCATION:America/Kentucky/Louisville
BEGIN:STANDARD
DTSTART:20241103T010000
TZOFFSETFROM:-0400
TZOFFSETTO:-0500
TZNAME:EST
END:STANDARD
END:VTIMEZONE
END:VCALENDAR