BEGIN:VCALENDAR
VERSION:2.0
PRODID:-//wp-events-plugin.com//7.2.3.1//EN
BEGIN:VEVENT
UID:8897@visitlebanonky.com
DTSTART;TZID=America/Kentucky/Louisville:20260228T190000
DTEND;TZID=America/Kentucky/Louisville:20260228T203000
DTSTAMP:20260228T194452Z
URL:https://visitlebanonky.com/events/loretto-motherhouse-church-concert-s
 eries/
SUMMARY:Loretto Motherhouse Church Concert Series
DESCRIPTION:Follow on Facebook for this and other events HERE
ATTACH;FMTTYPE=image/jpeg:https://visitlebanonky.com/wp-content/uploads/20
 26/02/LORETTO-MOTHERHOUSE.jpg
CATEGORIES:Community
LOCATION:Loretto Motherhouse\, 95 Nerinx Road\, Nerinx\, Kentucky\, 40037\,
  Marion County\, United States
GEO:37.654172;-85.399148
X-APPLE-STRUCTURED-LOCATION;VALUE=URI;X-ADDRESS=95 Nerinx Road\, Nerinx\, K
 entucky\, 40037\, Marion County\, United States;X-APPLE-RADIUS=100;X-TITLE
 =Loretto Motherhouse:geo:37.654172,-85.399148
END:VEVENT
BEGIN:VTIMEZONE
TZID:America/Kentucky/Louisville
X-LIC-LOCATION:America/Kentucky/Louisville
BEGIN:STANDARD
DTSTART:20251102T010000
TZOFFSETFROM:-0400
TZOFFSETTO:-0500
TZNAME:EST
END:STANDARD
END:VTIMEZONE
END:VCALENDAR