BEGIN:VCALENDAR
VERSION:2.0
PRODID:-//wp-events-plugin.com//7.2.3.1//EN
BEGIN:VEVENT
UID:8084@visitlebanonky.com
DTSTART;TZID=America/Kentucky/Louisville:20251025T140000
DTEND;TZID=America/Kentucky/Louisville:20251025T190000
DTSTAMP:20251008T191447Z
URL:https://visitlebanonky.com/events/loretto-motherhouse-haunted-trail-2/
SUMMARY:Loretto Motherhouse Haunted Trail
DESCRIPTION:Our annual Loretto Motherhouse Haunted Trail will be held on Sa
 turday\, October 25th\, from 2pm-7pm.  New this year: 2pm-4:30pm will be t
 he Friendly version for the younger kids and after 4:30 pm we will switch 
 to the scarier version for those that dare!\nContact Stacy Ballard if you 
 have questions or would like to volunteer\, sballard@lorettomotherhouse.or
 g
ATTACH;FMTTYPE=image/jpeg:https://visitlebanonky.com/wp-content/uploads/20
 25/10/haunted-trail.jpg
CATEGORIES:Community
LOCATION:Loretto Motherhouse at Mary's Lake\, 515 Nerinx Road\, Nerinx\, Ke
 ntucky\, 40049\, Marion County\, United States
GEO:37.659601;-85.394587
X-APPLE-STRUCTURED-LOCATION;VALUE=URI;X-ADDRESS=515 Nerinx Road\, Nerinx\, 
 Kentucky\, 40049\, Marion County\, United States;X-APPLE-RADIUS=100;X-TITL
 E=Loretto Motherhouse at Mary's Lake:geo:37.659601,-85.394587
END:VEVENT
BEGIN:VTIMEZONE
TZID:America/Kentucky/Louisville
X-LIC-LOCATION:America/Kentucky/Louisville
BEGIN:DAYLIGHT
DTSTART:20250309T030000
TZOFFSETFROM:-0500
TZOFFSETTO:-0400
TZNAME:EDT
END:DAYLIGHT
END:VTIMEZONE
END:VCALENDAR