BEGIN:VCALENDAR
VERSION:2.0
PRODID:-//wp-events-plugin.com//7.2.3.1//EN
BEGIN:VEVENT
UID:9122@visitlebanonky.com
DTSTART;TZID=America/Kentucky/Louisville:20260620T080000
DTEND;TZID=America/Kentucky/Louisville:20260620T110000
DTSTAMP:20260324T221707Z
URL:https://visitlebanonky.com/events/loretto-motherhouse-nature-run-5k-2/
SUMMARY:Loretto Motherhouse Nature Run 5K
DESCRIPTION:From the event page on Facebook HERE\n"Our trail run is second 
 to Nun". Runners and walkers are welcome! Join us to explore nature and th
 e beautiful Loretto Motherhouse property in this exciting event. The cours
 e will take participants through woodlands\, around lakes\, through grassy
  trails\, and along graveled paths lined with cattle. The course includes 
 some incline and uneven ground. Sign Up early to receive a complementary r
 ace t-shirt.\nThere will be a coffee/breakfast food truck on site to purch
 ase refreshments\, as well as educational booths and activities. Walkers a
 re welcome! For the safety of everyone\, no dogs on the course please. All
  funds raised support the missions of the Loretto Community at the Loretto
  Motherhouse.
ATTACH;FMTTYPE=image/jpeg:https://visitlebanonky.com/wp-content/uploads/20
 26/03/NATURE-RUN.jpg
CATEGORIES:Community
LOCATION:Loretto Motherhouse Farm\, 515 Nerinx Road\, Nerinx\, KY\, 40049\,
  United States
X-APPLE-STRUCTURED-LOCATION;VALUE=URI;X-ADDRESS=515 Nerinx Road\, Nerinx\, 
 KY\, 40049\, United States;X-APPLE-RADIUS=100;X-TITLE=Loretto Motherhouse 
 Farm:geo:0,0
END:VEVENT
BEGIN:VTIMEZONE
TZID:America/Kentucky/Louisville
X-LIC-LOCATION:America/Kentucky/Louisville
BEGIN:DAYLIGHT
DTSTART:20260308T030000
TZOFFSETFROM:-0500
TZOFFSETTO:-0400
TZNAME:EDT
END:DAYLIGHT
END:VTIMEZONE
END:VCALENDAR