BEGIN:VCALENDAR
VERSION:2.0
PRODID:-//wp-events-plugin.com//7.2.3.1//EN
BEGIN:VEVENT
UID:8880@visitlebanonky.com
DTSTART;TZID=America/Kentucky/Louisville:20260317T170000
DTEND;TZID=America/Kentucky/Louisville:20260317T190000
DTSTAMP:20260219T142623Z
URL:https://visitlebanonky.com/events/loretto-softball-league-signups-3/
SUMMARY:Loretto Softball League Signups
DESCRIPTION:Loretto Youth Softball signups will be held at Loretto City Hal
 l from 5-7 p.m. on March 3\, 10 and 17.\nLate signups will NOT be accepted
 \, as teams will be picked immediately following signups.\nPractices will 
 run the entire month of April\, with games starting the first week of May 
 and lasting through the end of June.\nParents of kids ages 14-17\, this is
  a great opportunity for your child to earn a SCHOLARSHIP and have fun at 
 the same time!\nThere will also be coach sign up sheets as well.\nAges:\n4
 -17 (age based on July 1\, 2025)\nEntry Fee:\n$30 per kid\nPlease call 270
 -402-9999 with any questions.\nFollow on Facebook HERE
ATTACH;FMTTYPE=image/jpeg:https://visitlebanonky.com/wp-content/uploads/20
 26/02/loretto-softball.jpg
CATEGORIES:Community
LOCATION:Loretto City Hall\, 72 School Drive\, Loretto\, Kentucky\, 40037\,
  Marion County\, United States
GEO:37.63671;-85.405202
X-APPLE-STRUCTURED-LOCATION;VALUE=URI;X-ADDRESS=72 School Drive\, Loretto\,
  Kentucky\, 40037\, Marion County\, United States;X-APPLE-RADIUS=100;X-TIT
 LE=Loretto City Hall:geo:37.63671,-85.405202
END:VEVENT
BEGIN:VTIMEZONE
TZID:America/Kentucky/Louisville
X-LIC-LOCATION:America/Kentucky/Louisville
BEGIN:DAYLIGHT
DTSTART:20260308T030000
TZOFFSETFROM:-0500
TZOFFSETTO:-0400
TZNAME:EDT
END:DAYLIGHT
END:VTIMEZONE
END:VCALENDAR