BEGIN:VCALENDAR
VERSION:2.0
PRODID:-//wp-events-plugin.com//7.2.3.1//EN
BEGIN:VEVENT
UID:9077@visitlebanonky.com
DTSTART;TZID=America/Kentucky/Louisville:20260627T100000
DTEND;TZID=America/Kentucky/Louisville:20260627T160000
DTSTAMP:20260319T043509Z
URL:https://visitlebanonky.com/events/loretto-street-fair/
SUMMARY:Loretto Street Fair
DESCRIPTION:Follow Beautify Loretto on Facebook HERE or find the event page
  HERE\n🎉 Mark Your Calendars! 🎉\nThe 6th Annual Loretto Street Fair 
 is back and better than ever!\n📅 June 27\, 2026\n⏰ 10 AM – 4 PM\n
 📍 72 School Drive\, Loretto\, KY\n✨ Shop local vendors\n🍔 Grab som
 ething delicious from food trucks\n🎈 Let the kids enjoy the kid zone\n
 💛 Spend the day making memories with the whole family\nThere’s someth
 ing for everyone — you won’t want to miss it!\n👉 Tag your friends &
  make plans to come out!
ATTACH;FMTTYPE=image/jpeg:https://visitlebanonky.com/wp-content/uploads/20
 26/03/LORETTO-STREET-1.jpg
CATEGORIES:Official
LOCATION:Loretto City Hall\, 72 School Drive\, Loretto\, Kentucky\, 40037\,
  Marion County\, United States
GEO:37.63671;-85.405202
X-APPLE-STRUCTURED-LOCATION;VALUE=URI;X-ADDRESS=72 School Drive\, Loretto\,
  Kentucky\, 40037\, Marion County\, United States;X-APPLE-RADIUS=100;X-TIT
 LE=Loretto City Hall:geo:37.63671,-85.405202
END:VEVENT
BEGIN:VTIMEZONE
TZID:America/Kentucky/Louisville
X-LIC-LOCATION:America/Kentucky/Louisville
BEGIN:DAYLIGHT
DTSTART:20260308T030000
TZOFFSETFROM:-0500
TZOFFSETTO:-0400
TZNAME:EDT
END:DAYLIGHT
END:VTIMEZONE
END:VCALENDAR