BEGIN:VCALENDAR
VERSION:2.0
PRODID:-//wp-events-plugin.com//7.2.3.1//EN
BEGIN:VEVENT
UID:9072@visitlebanonky.com
DTSTART;TZID=America/Kentucky/Louisville:20260406T170000
DTEND;TZID=America/Kentucky/Louisville:20260413T190000
DTSTAMP:20260319T040026Z
URL:https://visitlebanonky.com/events/loretto-youth-flag-football-sign-ups
 -as-needed/
SUMMARY:Loretto Youth Flag Football Sign Ups - As Needed
DESCRIPTION:2026 Season sign ups will start on Monday\, March 23. This will
  be for returning members only. If your child played last season\, they ar
 e guaranteed a spot\, however you must sign them up on the returning membe
 r dates to ensure that spot. After those dates\, we will open up to the pu
 blic if needed! Don’t forget to bring can food and non-perishable items 
 for our can food drive! Each item donated will get your name entered into 
 our gift basket drawing! More items\, means more chances to win!\nBelow ar
 e the dates of sign ups! There will be absolutely NO LATE sign ups! Lookin
 g forward to seeing everyone again!\nLORETTO YOUTH FLAG FOOTBALL SIGN UPS\
 nWhere:\nLoretto City Hall\n72 School Drive\nLoretto\, Ky\nWhen:\nMonday M
 arch 23\, 5-7pm\n(Returning Members ONLY)\nMonday March 30\, 5-7pm\n(Retur
 ning Members ONLY)\nMonday April 6\, 5-7pm\nOpen to the Public if needed\n
 Monday April 13\, 5-7pm\nOpen to the Public if needed\n‼️‼️Please 
 know that signing your kid up is a commitment to our league and your coach
 ! We take our league very serious\, and recommend that you show up to prac
 tices and games as scheduled! Failure to do so\, is taking a spot from som
 eone else\, as we only have a certain amount of spots to fill. Please take
  this in mind when signing up‼️‼️\nCheck out the group on Facebook
  HERE to confirm the as needed days.
ATTACH;FMTTYPE=image/jpeg:https://visitlebanonky.com/wp-content/uploads/20
 26/03/sign-up.jpg
CATEGORIES:Community
LOCATION:Loretto City Hall\, 72 School Drive\, Loretto\, Kentucky\, 40037\,
  Marion County\, United States
GEO:37.63671;-85.405202
X-APPLE-STRUCTURED-LOCATION;VALUE=URI;X-ADDRESS=72 School Drive\, Loretto\,
  Kentucky\, 40037\, Marion County\, United States;X-APPLE-RADIUS=100;X-TIT
 LE=Loretto City Hall:geo:37.63671,-85.405202
END:VEVENT
BEGIN:VTIMEZONE
TZID:America/Kentucky/Louisville
X-LIC-LOCATION:America/Kentucky/Louisville
BEGIN:DAYLIGHT
DTSTART:20260308T030000
TZOFFSETFROM:-0500
TZOFFSETTO:-0400
TZNAME:EDT
END:DAYLIGHT
END:VTIMEZONE
END:VCALENDAR