BEGIN:VCALENDAR
VERSION:2.0
PRODID:-//wp-events-plugin.com//7.2.3.1//EN
BEGIN:VEVENT
UID:2460@visitlebanonky.com
DTSTART;TZID=America/Kentucky/Louisville:20230403T180000
DTEND;TZID=America/Kentucky/Louisville:20230501T190000
DTSTAMP:20230331T180217Z
URL:https://visitlebanonky.com/event-recurring/loretto-youth-flag-football
 -sign-ups/
SUMMARY:Loretto Youth Flag Football Sign ups
DESCRIPTION:Sign ups  for the Loretto Youth Football League will be each Mo
 nday starting April 3 thru May 1 at the Loretto City Hall (with the except
 ion of April 24 will be under the pavilion at the Loretto City Park)\, fro
 m 6-7 p.m. The cost is $15 per child. This league will be for boys and gir
 ls ages 4-12 (Must be 4 by July 1\, 2023\, and 12 years old thru November 
 1\, 2023\, no exceptions- this is for safety reasons). \n\nBring a canned 
 food/non perishable item with you to sign ups\, in order to be entered int
 o the Youth Football Gift Basket giveaway. The more items you bring the mo
 re entries you get. You can follow this group on Facebook at https://www.f
 acebook.com/groups/698758961999545 .
ATTACH;FMTTYPE=image/jpeg:https://visitlebanonky.com/wp-content/uploads/20
 23/03/loretto-youth-football.jpg
CATEGORIES:Community
LOCATION:Loretto City Hall\, 72 School Drive\, Loretto\, Kentucky\, 40037\,
  Marion County\, United States
X-APPLE-STRUCTURED-LOCATION;VALUE=URI;X-ADDRESS=72 School Drive\, Loretto\,
  Kentucky\, 40037\, Marion County\, United States;X-APPLE-RADIUS=100;X-TIT
 LE=Loretto City Hall:geo:0,0
END:VEVENT
BEGIN:VTIMEZONE
TZID:America/Kentucky/Louisville
X-LIC-LOCATION:America/Kentucky/Louisville
BEGIN:DAYLIGHT
DTSTART:20230312T030000
TZOFFSETFROM:-0500
TZOFFSETTO:-0400
TZNAME:EDT
END:DAYLIGHT
END:VTIMEZONE
END:VCALENDAR