BEGIN:VCALENDAR
VERSION:2.0
PRODID:-//wp-events-plugin.com//7.2.3.1//EN
BEGIN:VEVENT
UID:8127@visitlebanonky.com
DTSTART;TZID=America/Kentucky/Louisville:20260916T120000
DTEND;TZID=America/Kentucky/Louisville:20260916T130000
DTSTAMP:20251015T154008Z
URL:https://visitlebanonky.com/events/lunch-learn-civics-2026-how-governme
 nt-works-2026-01-21-2026-02-18-2026-03-18-2026-04-15-2026-05-20-2026-06-17
 -2026-07-15-2026-08-19-2026-09-16/
SUMMARY:Lunch & Learn Civics 2026: How Government Works
DESCRIPTION:Lunch & Learn Civics 2026: How Government Works\n12 one-hour se
 ssions to understand how your government works – local to federal.\nJanu
 ary - December 2026\; 12pm - 1pm on the Third Wednesday of each month\nCon
 tact us at 270-692-4698 or directormcpl@marioncopublic.org\n\nInterested i
 n learning more?  Please sign up to receive details about our civics serie
 s!\n\nWe are launching a Lunch & Learn Civics 2026: How Government Works s
 eries that will run from January - December 2026. The content is non-parti
 san\, and will be focused on HOW the government works at the different lev
 els\, what taxes actually pay for\, and other information most people don'
 t know or would like to understand better. Linked below is a form to help 
 us make sure we are covering topics you want to know about\, so please che
 ck it out and give us some feedback!
ATTACH;FMTTYPE=image/jpeg:https://visitlebanonky.com/wp-content/uploads/20
 25/10/lunch-and-learn.jpg
CATEGORIES:Community
LOCATION:Marion County Public Library\, 201 E Main St\, Lebanon\, KY/Marion
 \, 40033\, Marion County\, United States
X-APPLE-STRUCTURED-LOCATION;VALUE=URI;X-ADDRESS=201 E Main St\, Lebanon\, K
 Y/Marion\, 40033\, Marion County\, United States;X-APPLE-RADIUS=100;X-TITL
 E=Marion County Public Library:geo:0,0
END:VEVENT
BEGIN:VTIMEZONE
TZID:America/Kentucky/Louisville
X-LIC-LOCATION:America/Kentucky/Louisville
BEGIN:DAYLIGHT
DTSTART:20260308T030000
TZOFFSETFROM:-0500
TZOFFSETTO:-0400
TZNAME:EDT
END:DAYLIGHT
END:VTIMEZONE
END:VCALENDAR