BEGIN:VCALENDAR
VERSION:2.0
PRODID:-//wp-events-plugin.com//7.2.3.1//EN
BEGIN:VEVENT
UID:8665@visitlebanonky.com
DTSTART;TZID=America/Kentucky/Louisville:20260123T110000
DTEND;TZID=America/Kentucky/Louisville:20260123T130000
DTSTAMP:20260123T013927Z
URL:https://visitlebanonky.com/events/marion-county-4-h-soup-lunch-fundrai
 ser/
SUMMARY:Marion County 4-H Soup Lunch Fundraiser
DESCRIPTION:Join us for lunch at the Extension Office this Friday and help 
 support our local 4-H Program!
ATTACH;FMTTYPE=image/jpeg:https://visitlebanonky.com/wp-content/uploads/20
 26/01/4h-lunch-e1769132266307.jpg
CATEGORIES:Community
LOCATION:Marion County Cooperative Extension Office\, 416 Fairgrounds Road\
 , Lebanon\, KY/Marion\, 40033\, United States
X-APPLE-STRUCTURED-LOCATION;VALUE=URI;X-ADDRESS=416 Fairgrounds Road\, Leba
 non\, KY/Marion\, 40033\, United States;X-APPLE-RADIUS=100;X-TITLE=Marion 
 County Cooperative Extension Office:geo:0,0
END:VEVENT
BEGIN:VTIMEZONE
TZID:America/Kentucky/Louisville
X-LIC-LOCATION:America/Kentucky/Louisville
BEGIN:STANDARD
DTSTART:20251102T010000
TZOFFSETFROM:-0400
TZOFFSETTO:-0500
TZNAME:EST
END:STANDARD
END:VTIMEZONE
END:VCALENDAR