BEGIN:VCALENDAR
VERSION:2.0
PRODID:-//wp-events-plugin.com//7.2.3.1//EN
BEGIN:VEVENT
UID:6714@visitlebanonky.com
DTSTART;TZID=America/Kentucky/Louisville:20250227T173000
DTEND;TZID=America/Kentucky/Louisville:20250227T213000
DTSTAMP:20250226T012032Z
URL:https://visitlebanonky.com/events/marion-county-chamber-of-commerce-ba
 nquet/
SUMMARY:Marion County Chamber of Commerce Banquet - SOLD OUT
DESCRIPTION:🎉The Chamber is now accepting nominations for Outstanding Fa
 rmer\, Educator\, Citizen\, Business Person\, First Responder\, and Downto
 wn Development for the Annual Chamber Banquet. The nominations form can be
  found on the Chamber website or in the Chamber office. All nominations ar
 e due by February 6\, 2025! \nhttps://marioncountykychamber.com/
ATTACH;FMTTYPE=image/jpeg:https://visitlebanonky.com/wp-content/uploads/20
 24/12/chamber-banquet-2.jpg
CATEGORIES:Community
LOCATION:Centre Square Gymnasium\, Hood Avenue\, Lebanon\, Kentucky\, 40033
 \, Marion County\, United States
GEO:37.57381;-85.251312
X-APPLE-STRUCTURED-LOCATION;VALUE=URI;X-ADDRESS=Hood Avenue\, Lebanon\, Ken
 tucky\, 40033\, Marion County\, United States;X-APPLE-RADIUS=100;X-TITLE=C
 entre Square Gymnasium:geo:37.57381,-85.251312
END:VEVENT
BEGIN:VTIMEZONE
TZID:America/Kentucky/Louisville
X-LIC-LOCATION:America/Kentucky/Louisville
BEGIN:STANDARD
DTSTART:20241103T010000
TZOFFSETFROM:-0400
TZOFFSETTO:-0500
TZNAME:EST
END:STANDARD
END:VTIMEZONE
END:VCALENDAR