BEGIN:VCALENDAR
VERSION:2.0
PRODID:-//wp-events-plugin.com//7.2.3.1//EN
BEGIN:VEVENT
UID:9158@visitlebanonky.com
DTSTART;TZID=America/Kentucky/Louisville:20260430T120000
DTEND;TZID=America/Kentucky/Louisville:20260430T130000
DTSTAMP:20260401T203853Z
URL:https://visitlebanonky.com/events/marion-county-chamber-of-commerce-le
 aders-at-lunch/
SUMMARY:Marion County Chamber of Commerce Leaders At Lunch
DESCRIPTION:We are excited to invite you to our April Leaders at Lunch!\n\n
 📅 Thursday\, April 30 at noon\n📍 Venue 68\n\nThis month’s luncheon
  is proudly sponsored by Winebrenner Financial Services!\n\nWe are honored
  to welcome Guest Speaker Judge-Executive David Daugherty\, who will share
  important updates with our business community!\n\nLunch will be catered b
 y Big Papas Smokehouse\n\n💼 $15 – Chamber Members\n💼 $20 – Non-C
 hamber Members\n\nPlease RSVP by April 27th to secure your seat.\nTickets 
 available HERE\n \n \n \n 
ATTACH;FMTTYPE=image/jpeg:https://visitlebanonky.com/wp-content/uploads/20
 26/04/chamber-luncheon.png
CATEGORIES:Community
LOCATION:Venue 68\, 212 W Main St\, Lebanon\, KY/Marion\, 40033\, United St
 ates
X-APPLE-STRUCTURED-LOCATION;VALUE=URI;X-ADDRESS=212 W Main St\, Lebanon\, K
 Y/Marion\, 40033\, United States;X-APPLE-RADIUS=100;X-TITLE=Venue 68:geo:0
 ,0
END:VEVENT
BEGIN:VTIMEZONE
TZID:America/Kentucky/Louisville
X-LIC-LOCATION:America/Kentucky/Louisville
BEGIN:DAYLIGHT
DTSTART:20260308T030000
TZOFFSETFROM:-0500
TZOFFSETTO:-0400
TZNAME:EDT
END:DAYLIGHT
END:VTIMEZONE
END:VCALENDAR