BEGIN:VCALENDAR
VERSION:2.0
PRODID:-//wp-events-plugin.com//7.2.3.1//EN
BEGIN:VEVENT
UID:8893@visitlebanonky.com
DTSTART;TZID=America/Kentucky/Louisville:20251030T120000
DTEND;TZID=America/Kentucky/Louisville:20251030T130000
DTSTAMP:20260223T155743Z
URL:https://visitlebanonky.com/events/marion-county-chamber-of-commerce-mo
 nthly-luncheon/
SUMMARY:Marion County Chamber of Commerce Monthly Luncheon
DESCRIPTION:Please RSVP by calling 270-692-9594 or email info@MarionCountyK
 YChamber.com . Follow the chamber on Facebook HERE   for sponsors and loca
 tions.\n\nOur first Chamber Luncheon of the year is almost here! 🎉\nJoi
 n us on March 19th at the Marion County Event Center & Sportsplex for grea
 t food\, networking\, and community updates!\n\n✨ Sponsored by: One Cros
 s Medical Clinic\n🎤 Guest Speaker: Gary Crenshaw\n🍴 Catered by: Leba
 non Meat Market\nMayor Crenshaw will be sharing important community update
 s — you won’t want to miss it!\n\nAll are welcome to attend!\n💲 $15
  for Chamber Members\n💲 $20 for Non-Members\n‼️Not a member yet? Jo
 in the Chamber today to receive the discounted rate and enjoy all the bene
 fits of membership!\n\n📅 Please RSVP by March 16th\n📧 info@marioncou
 ntykychamber.com\n📞 270-692-9594 \n \n \n 
ATTACH;FMTTYPE=image/jpeg:https://visitlebanonky.com/wp-content/uploads/20
 26/02/chamber-luncheon.jpg
CATEGORIES:Community
LOCATION:Marion County Cooperative Extension Office\, 416 Fairgrounds Road\
 , Lebanon\, KY/Marion\, 40033\, United States
X-APPLE-STRUCTURED-LOCATION;VALUE=URI;X-ADDRESS=416 Fairgrounds Road\, Leba
 non\, KY/Marion\, 40033\, United States;X-APPLE-RADIUS=100;X-TITLE=Marion 
 County Cooperative Extension Office:geo:0,0
END:VEVENT
BEGIN:VTIMEZONE
TZID:America/Kentucky/Louisville
X-LIC-LOCATION:America/Kentucky/Louisville
BEGIN:DAYLIGHT
DTSTART:20250309T030000
TZOFFSETFROM:-0500
TZOFFSETTO:-0400
TZNAME:EDT
END:DAYLIGHT
END:VTIMEZONE
END:VCALENDAR