BEGIN:VCALENDAR
VERSION:2.0
PRODID:-//wp-events-plugin.com//7.2.3.1//EN
BEGIN:VEVENT
UID:8955@visitlebanonky.com
DTSTART;TZID=America/Kentucky/Louisville:20260319T120000
DTEND;TZID=America/Kentucky/Louisville:20260319T130000
DTSTAMP:20260306T175952Z
URL:https://visitlebanonky.com/events/marion-county-child-abuse-prevention
 -events-2/
SUMMARY:Marion County Child Abuse Prevention Events
DESCRIPTION:The Marion County Heartland Coalition is encouraging community 
 members to get involved in upcoming efforts to support children and famili
 es\, with two informational and training events scheduled in March.\nThe f
 irst event\, CASA 101\, will take place on Wednesday\, March 12\, at 4:00 
 p.m. at the Marion County Public Library.   The session is hosted by CASA 
 of the Lincoln Trail and will provide information about the role Court App
 ointed Special Advocates play in supporting children involved in the court
  system. The session is designed for anyone interested in learning how the
 y can volunteer to advocate for children in need.\nThe coalition will also
  host a Community Approach to Preventing Child Abuse and Neglect Training 
 on March 19.   The training will focus on ways communities can work togeth
 er to recognize risk factors\, strengthen families\, and help prevent abus
 e and neglect before it occurs.\nOrganizers say additional activities and 
 opportunities are being planned for April\, and more information will be r
 eleased in the coming weeks.
ATTACH;FMTTYPE=image/jpeg:https://visitlebanonky.com/wp-content/uploads/20
 26/03/child-abuse.jpg
CATEGORIES:Community
LOCATION:Marion County Public Library\, 201 E Main St\, Lebanon\, KY/Marion
 \, 40033\, Marion County\, United States
X-APPLE-STRUCTURED-LOCATION;VALUE=URI;X-ADDRESS=201 E Main St\, Lebanon\, K
 Y/Marion\, 40033\, Marion County\, United States;X-APPLE-RADIUS=100;X-TITL
 E=Marion County Public Library:geo:0,0
END:VEVENT
BEGIN:VTIMEZONE
TZID:America/Kentucky/Louisville
X-LIC-LOCATION:America/Kentucky/Louisville
BEGIN:DAYLIGHT
DTSTART:20260308T030000
TZOFFSETFROM:-0500
TZOFFSETTO:-0400
TZNAME:EDT
END:DAYLIGHT
END:VTIMEZONE
END:VCALENDAR