BEGIN:VCALENDAR
VERSION:2.0
PRODID:-//wp-events-plugin.com//7.2.3.1//EN
BEGIN:VEVENT
UID:8956@visitlebanonky.com
DTSTART;TZID=America/Kentucky/Louisville:20260402T150000
DTEND;TZID=America/Kentucky/Louisville:20260402T170000
DTSTAMP:20260306T180158Z
URL:https://visitlebanonky.com/events/marion-county-child-abuse-prevention
 -events-3/
SUMMARY:Marion County Child Abuse Prevention Events
DESCRIPTION: 
ATTACH;FMTTYPE=image/jpeg:https://visitlebanonky.com/wp-content/uploads/20
 26/03/child-abuse.jpg
CATEGORIES:Community
LOCATION:David R. Hourigan Government Building\, 223 N. Spalding Avenue \, 
 Lebanon\, KY/MARION\, 40033\, Marion County\, United States
X-APPLE-STRUCTURED-LOCATION;VALUE=URI;X-ADDRESS=223 N. Spalding Avenue \, L
 ebanon\, KY/MARION\, 40033\, Marion County\, United States;X-APPLE-RADIUS=
 100;X-TITLE=David R. Hourigan Government Building:geo:0,0
END:VEVENT
BEGIN:VTIMEZONE
TZID:America/Kentucky/Louisville
X-LIC-LOCATION:America/Kentucky/Louisville
BEGIN:DAYLIGHT
DTSTART:20260308T030000
TZOFFSETFROM:-0500
TZOFFSETTO:-0400
TZNAME:EDT
END:DAYLIGHT
END:VTIMEZONE
END:VCALENDAR