BEGIN:VCALENDAR
VERSION:2.0
PRODID:-//wp-events-plugin.com//7.2.3.1//EN
BEGIN:VEVENT
UID:8957@visitlebanonky.com
DTSTART;TZID=America/Kentucky/Louisville:20260413T190000
DTEND;TZID=America/Kentucky/Louisville:20260413T200000
DTSTAMP:20260306T180421Z
URL:https://visitlebanonky.com/events/marion-county-child-abuse-prevention
 -events-4/
SUMMARY:Marion County Child Abuse Prevention Events
DESCRIPTION: 
ATTACH;FMTTYPE=image/jpeg:https://visitlebanonky.com/wp-content/uploads/20
 26/03/child-abuse.jpg
CATEGORIES:Community
LOCATION:Lebanon City Hall\, 240 W. Main St.\, Lebanon\, Kentucky\, 40033\,
  Marion County\, United States
GEO:37.568344;-85.255209
X-APPLE-STRUCTURED-LOCATION;VALUE=URI;X-ADDRESS=240 W. Main St.\, Lebanon\,
  Kentucky\, 40033\, Marion County\, United States;X-APPLE-RADIUS=100;X-TIT
 LE=Lebanon City Hall:geo:37.568344,-85.255209
END:VEVENT
BEGIN:VTIMEZONE
TZID:America/Kentucky/Louisville
X-LIC-LOCATION:America/Kentucky/Louisville
BEGIN:DAYLIGHT
DTSTART:20260308T030000
TZOFFSETFROM:-0500
TZOFFSETTO:-0400
TZNAME:EDT
END:DAYLIGHT
END:VTIMEZONE
END:VCALENDAR