BEGIN:VCALENDAR
VERSION:2.0
PRODID:-//wp-events-plugin.com//7.2.3.1//EN
BEGIN:VEVENT
UID:5970@visitlebanonky.com
DTSTART;TZID=America/Kentucky/Louisville:20240821T123000
DTEND;TZID=America/Kentucky/Louisville:20240821T153000
DTSTAMP:20240805T184329Z
URL:https://visitlebanonky.com/events/marion-county-community-blood-drive/
SUMMARY:Marion County Community Blood Drive
DESCRIPTION:From the event page on Facebook at https://fb.me/e/3VMMyMTji\nD
 onors Needed to Boost Summer Blood Supply\nAs fun as summer is\, it’s a 
 tough time on the blood supply. Between warm-weather activities\, family v
 acations and no school\, donations typically dwindle during the summer mon
 ths\, but the need for blood doesn’t take a vacation.\nDonors can ensure
  it’s a safe and enjoyable season for everyone by donating blood at this
  upcoming Kentucky Blood Center drive.\nAll donors will receive a "Donor V
 ibes" T-shirt AND a $15 Walmart gift card as a thank you for boosting the 
 summer blood supply.\nDONATE WHERE WE KEEP THE BLOOD IN KY AND AT SPRING V
 IEW HOSPITAL!\nSchedule your blood donation here:\nhttps://my.kybloodcente
 r.org/.../sch.../drive_schedule/87635 
ATTACH;FMTTYPE=image/jpeg:https://visitlebanonky.com/wp-content/uploads/20
 24/08/blood-drive.jpg
CATEGORIES:Community
LOCATION:Marion County Public Library\, 201 E Main St\, Lebanon\, KY/Marion
 \, 40033\, Marion County\, United States
X-APPLE-STRUCTURED-LOCATION;VALUE=URI;X-ADDRESS=201 E Main St\, Lebanon\, K
 Y/Marion\, 40033\, Marion County\, United States;X-APPLE-RADIUS=100;X-TITL
 E=Marion County Public Library:geo:0,0
END:VEVENT
BEGIN:VTIMEZONE
TZID:America/Kentucky/Louisville
X-LIC-LOCATION:America/Kentucky/Louisville
BEGIN:DAYLIGHT
DTSTART:20240310T030000
TZOFFSETFROM:-0500
TZOFFSETTO:-0400
TZNAME:EDT
END:DAYLIGHT
END:VTIMEZONE
END:VCALENDAR