BEGIN:VCALENDAR
VERSION:2.0
PRODID:-//wp-events-plugin.com//7.2.3.1//EN
BEGIN:VEVENT
UID:9148@visitlebanonky.com
DTSTART;TZID=America/Kentucky/Louisville:20260423T100000
DTEND;TZID=America/Kentucky/Louisville:20260423T140000
DTSTAMP:20260331T175552Z
URL:https://visitlebanonky.com/events/marion-county-community-showcase-car
 eer-resource-fair-2/
SUMMARY:Marion County Community Showcase Career & Resource Fair
DESCRIPTION:
ATTACH;FMTTYPE=image/jpeg:https://visitlebanonky.com/wp-content/uploads/20
 26/03/mc-showcase.jpg
CATEGORIES:Community
LOCATION:Marion County Event Center and Sportsplex\, Independence Drive\, L
 ebanon\, KY\, 40033\, Marion County\, United States
X-APPLE-STRUCTURED-LOCATION;VALUE=URI;X-ADDRESS=Independence Drive\, Lebano
 n\, KY\, 40033\, Marion County\, United States;X-APPLE-RADIUS=100;X-TITLE=
 Marion County Event Center and Sportsplex:geo:0,0
END:VEVENT
BEGIN:VTIMEZONE
TZID:America/Kentucky/Louisville
X-LIC-LOCATION:America/Kentucky/Louisville
BEGIN:DAYLIGHT
DTSTART:20260308T030000
TZOFFSETFROM:-0500
TZOFFSETTO:-0400
TZNAME:EDT
END:DAYLIGHT
END:VTIMEZONE
END:VCALENDAR