BEGIN:VCALENDAR
VERSION:2.0
PRODID:-//wp-events-plugin.com//7.2.3.1//EN
BEGIN:VEVENT
UID:5955@visitlebanonky.com
DTSTART;TZID=America/Kentucky/Louisville;VALUE=DATE:20240813
DTEND;TZID=America/Kentucky/Louisville;VALUE=DATE:20240814
DTSTAMP:20240729T205423Z
URL:https://visitlebanonky.com/events/marion-county-cooperative-extension-
 office-caip-education-opportunities-2/
SUMMARY:Marion County Cooperative Extension Office CAIP Education Opportuni
 ties
DESCRIPTION:
ATTACH;FMTTYPE=image/jpeg:https://visitlebanonky.com/wp-content/uploads/20
 24/07/caip.jpg
CATEGORIES:Community
LOCATION:Makers Mark Distillery\, 3350 Burks Spring Road\, Loretto\, Kentuc
 ky\, 40037\, Marion County\, United States
GEO:37.645994;-85.351871
X-APPLE-STRUCTURED-LOCATION;VALUE=URI;X-ADDRESS=3350 Burks Spring Road\, Lo
 retto\, Kentucky\, 40037\, Marion County\, United States;X-APPLE-RADIUS=10
 0;X-TITLE=Makers Mark Distillery:geo:37.645994,-85.351871
END:VEVENT
BEGIN:VTIMEZONE
TZID:America/Kentucky/Louisville
X-LIC-LOCATION:America/Kentucky/Louisville
BEGIN:DAYLIGHT
DTSTART:20240310T030000
TZOFFSETFROM:-0500
TZOFFSETTO:-0400
TZNAME:EDT
END:DAYLIGHT
END:VTIMEZONE
END:VCALENDAR