BEGIN:VCALENDAR
VERSION:2.0
PRODID:-//wp-events-plugin.com//7.2.3.1//EN
BEGIN:VEVENT
UID:5957@visitlebanonky.com
DTSTART;TZID=America/Kentucky/Louisville:20240910T160000
DTEND;TZID=America/Kentucky/Louisville:20240910T190000
DTSTAMP:20240729T205630Z
URL:https://visitlebanonky.com/events/marion-county-cooperative-extension-
 office-caip-education-opportunities-4/
SUMMARY:Marion County Cooperative Extension Office CAIP Education Opportuni
 ties
DESCRIPTION:
ATTACH;FMTTYPE=image/jpeg:https://visitlebanonky.com/wp-content/uploads/20
 24/07/caip.jpg
CATEGORIES:Community
LOCATION:The Russell Barn at St. Joe\, 4980 Saint Joe Road\, Raywick\, Kent
 ucky\, 40060\, Marion County\, United States
GEO:37.521682;-85.389429
X-APPLE-STRUCTURED-LOCATION;VALUE=URI;X-ADDRESS=4980 Saint Joe Road\, Raywi
 ck\, Kentucky\, 40060\, Marion County\, United States;X-APPLE-RADIUS=100;X
 -TITLE=The Russell Barn at St. Joe:geo:37.521682,-85.389429
END:VEVENT
BEGIN:VTIMEZONE
TZID:America/Kentucky/Louisville
X-LIC-LOCATION:America/Kentucky/Louisville
BEGIN:DAYLIGHT
DTSTART:20240310T030000
TZOFFSETFROM:-0500
TZOFFSETTO:-0400
TZNAME:EDT
END:DAYLIGHT
END:VTIMEZONE
END:VCALENDAR