BEGIN:VCALENDAR
VERSION:2.0
PRODID:-//wp-events-plugin.com//7.2.3.1//EN
BEGIN:VEVENT
UID:5958@visitlebanonky.com
DTSTART;TZID=America/Kentucky/Louisville:20240921T090000
DTEND;TZID=America/Kentucky/Louisville:20240921T120000
DTSTAMP:20240729T205719Z
URL:https://visitlebanonky.com/events/marion-county-cooperative-extension-
 office-caip-education-opportunities-5/
SUMMARY:Marion County Cooperative Extension Office CAIP Education Opportuni
 ties
DESCRIPTION:
ATTACH;FMTTYPE=image/jpeg:https://visitlebanonky.com/wp-content/uploads/20
 24/07/caip.jpg
CATEGORIES:Community
LOCATION:Marion County Fairgrounds\, 700 Fairgrounds Road\, Lebanon\, Kentu
 cky\, 40033\, Marion County\, United States
GEO:37.563672;-85.238002
X-APPLE-STRUCTURED-LOCATION;VALUE=URI;X-ADDRESS=700 Fairgrounds Road\, Leba
 non\, Kentucky\, 40033\, Marion County\, United States;X-APPLE-RADIUS=100;
 X-TITLE=Marion County Fairgrounds:geo:37.563672,-85.238002
END:VEVENT
BEGIN:VTIMEZONE
TZID:America/Kentucky/Louisville
X-LIC-LOCATION:America/Kentucky/Louisville
BEGIN:DAYLIGHT
DTSTART:20240310T030000
TZOFFSETFROM:-0500
TZOFFSETTO:-0400
TZNAME:EDT
END:DAYLIGHT
END:VTIMEZONE
END:VCALENDAR