BEGIN:VCALENDAR
VERSION:2.0
PRODID:-//wp-events-plugin.com//7.2.3.1//EN
BEGIN:VEVENT
UID:6610@visitlebanonky.com
DTSTART;TZID=America/Kentucky/Louisville;VALUE=DATE:20251105
DTEND;TZID=America/Kentucky/Louisville;VALUE=DATE:20270103
DTSTAMP:20260327T173518Z
URL:https://visitlebanonky.com/events/marion-county-cooperative-extension-
 office-events-2/
SUMMARY:Marion County Cooperative Extension Office Baking Class
DESCRIPTION:Follow the Marion County Cooperative Extension Office on Facebo
 ok HERE or go to the calendar on their website HERE   to keep up to date w
 ith everything they have going on. They cover everything from Cattleman me
 etings\, sheep and goat meetings\, bee keeping\, home economics\, nutritio
 n\, homemakers\, 4H and so much more.
ATTACH;FMTTYPE=image/jpeg:https://visitlebanonky.com/wp-content/uploads/20
 24/12/baking-class.jpg
CATEGORIES:Community
LOCATION:Marion County Cooperative Extension Office\, 416 Fairgrounds Road\
 , Lebanon\, KY/Marion\, 40033\, United States
X-APPLE-STRUCTURED-LOCATION;VALUE=URI;X-ADDRESS=416 Fairgrounds Road\, Leba
 non\, KY/Marion\, 40033\, United States;X-APPLE-RADIUS=100;X-TITLE=Marion 
 County Cooperative Extension Office:geo:0,0
END:VEVENT
BEGIN:VTIMEZONE
TZID:America/Kentucky/Louisville
X-LIC-LOCATION:America/Kentucky/Louisville
BEGIN:STANDARD
DTSTART:20251102T010000
TZOFFSETFROM:-0400
TZOFFSETTO:-0500
TZNAME:EST
END:STANDARD
BEGIN:DAYLIGHT
DTSTART:20260308T030000
TZOFFSETFROM:-0500
TZOFFSETTO:-0400
TZNAME:EDT
END:DAYLIGHT
BEGIN:STANDARD
DTSTART:20261101T010000
TZOFFSETFROM:-0400
TZOFFSETTO:-0500
TZNAME:EST
END:STANDARD
END:VTIMEZONE
END:VCALENDAR