BEGIN:VCALENDAR
VERSION:2.0
PRODID:-//wp-events-plugin.com//7.2.3.1//EN
BEGIN:VEVENT
UID:8854@visitlebanonky.com
DTSTART;TZID=America/Kentucky/Louisville:20260216T173000
DTEND;TZID=America/Kentucky/Louisville:20260216T190000
DTSTAMP:20260209T170513Z
URL:https://visitlebanonky.com/events/marion-county-cooperative-extension-
 office-events/
SUMMARY:Marion County Cooperative Extension Office Events
DESCRIPTION:Follow the Marion County Cooperative Extension Office on Facebo
 ok HERE or go to the calendar on their website HERE   to keep up to date w
 ith everything they have going on. They cover everything from Cattleman me
 etings\, sheep and goat meetings\, bee keeping\, home economics\, nutritio
 n\, homemakers\, 4H and so much more.
ATTACH;FMTTYPE=image/jpeg:https://visitlebanonky.com/wp-content/uploads/20
 26/02/saddle.jpg
CATEGORIES:Community
LOCATION:Marion County Cooperative Extension Office\, 416 Fairgrounds Road\
 , Lebanon\, KY/Marion\, 40033\, United States
X-APPLE-STRUCTURED-LOCATION;VALUE=URI;X-ADDRESS=416 Fairgrounds Road\, Leba
 non\, KY/Marion\, 40033\, United States;X-APPLE-RADIUS=100;X-TITLE=Marion 
 County Cooperative Extension Office:geo:0,0
END:VEVENT
BEGIN:VTIMEZONE
TZID:America/Kentucky/Louisville
X-LIC-LOCATION:America/Kentucky/Louisville
BEGIN:STANDARD
DTSTART:20251102T010000
TZOFFSETFROM:-0400
TZOFFSETTO:-0500
TZNAME:EST
END:STANDARD
END:VTIMEZONE
END:VCALENDAR