BEGIN:VCALENDAR
VERSION:2.0
PRODID:-//wp-events-plugin.com//7.2.3.1//EN
BEGIN:VEVENT
UID:5984@visitlebanonky.com
DTSTART;TZID=America/Kentucky/Louisville:20240927T000000
DTEND;TZID=America/Kentucky/Louisville:20240929T000000
DTSTAMP:20240928T033509Z
URL:https://visitlebanonky.com/events/marion-county-country-ham-days/
SUMMARY:Marion County Country Ham Days Street Map - Note Rain Revisions
DESCRIPTION:🐷 Visit HamDays.com to see our layout for Marion County @cou
 ntryhamdays 2024!\n— in Lebanon\, KY. There is also a tab at the top of 
 this calendar.\n\n‼️UPDATES‼️\n•Friday Concerts MOVED to Angelic
  Hall\n•Friday Night Free Movie by Lebanon Kiwanis Club MOVED inside Cen
 tre Square Gymnasium\n•Pokey Pig 5k run is STILL ON\n• Ham Auction MOV
 ED inside Citizen Bank Annex 10:45am Saturday \n•Tommy Burress Jr. Farme
 r and Little Miss Ham Days MOVED inside Center Square at Angelic Hall at 1
 1am\n•Hog Calling Contest MOVED inside Centre Square  at 12pm\n•Carly 
 Johnson 5pm-7pm Angelic Hall\n•Midnight Red Eye Band 8pm-9:30pm Angelic 
 Hall\n•Sweet Lady 9:30pm-11pm Angelic Hall\n•Balloon Events have been 
 RESCHEDULED \n•Vendors may set up until 11am Saturday. We encourage all 
 vendors to wait until tomorrow to set up.
ATTACH;FMTTYPE=image/jpeg:https://visitlebanonky.com/wp-content/uploads/20
 24/08/ham-day-map.jpg
CATEGORIES:Official
LOCATION:Downtown Lebanon\, Downtown Lebanon\, Lebanon\, KY\, 40033\, Mario
 n County\, United States
X-APPLE-STRUCTURED-LOCATION;VALUE=URI;X-ADDRESS=Downtown Lebanon\, Lebanon\
 , KY\, 40033\, Marion County\, United States;X-APPLE-RADIUS=100;X-TITLE=Do
 wntown Lebanon:geo:0,0
END:VEVENT
BEGIN:VTIMEZONE
TZID:America/Kentucky/Louisville
X-LIC-LOCATION:America/Kentucky/Louisville
BEGIN:DAYLIGHT
DTSTART:20240310T030000
TZOFFSETFROM:-0500
TZOFFSETTO:-0400
TZNAME:EDT
END:DAYLIGHT
END:VTIMEZONE
END:VCALENDAR