BEGIN:VCALENDAR
VERSION:2.0
PRODID:-//wp-events-plugin.com//7.2.3.1//EN
BEGIN:VEVENT
UID:7848@visitlebanonky.com
DTSTART;TZID=America/Kentucky/Louisville:20250823T160000
DTEND;TZID=America/Kentucky/Louisville:20250823T210000
DTSTAMP:20250823T054312Z
URL:https://visitlebanonky.com/events/marion-county-fairgrounds-family-fun
 -horse-show-6/
SUMMARY:Marion County Fairgrounds Family Fun Horse Show
DESCRIPTION:Follow the Marion County Fairgrounds on Facebook at https://www
 .facebook.com/marioncofair \nFrom the event page on Facebook at https://ww
 w.facebook.com/share/1EeUPZEgM5/ 
ATTACH;FMTTYPE=image/jpeg:https://visitlebanonky.com/wp-content/uploads/20
 25/08/horseshow-e1754334311144.jpg
CATEGORIES:Official
LOCATION:Marion County Fairgrounds\, 700 Fairgrounds Road\, Lebanon\, Kentu
 cky\, 40033\, Marion County\, United States
GEO:37.563672;-85.238002
X-APPLE-STRUCTURED-LOCATION;VALUE=URI;X-ADDRESS=700 Fairgrounds Road\, Leba
 non\, Kentucky\, 40033\, Marion County\, United States;X-APPLE-RADIUS=100;
 X-TITLE=Marion County Fairgrounds:geo:37.563672,-85.238002
END:VEVENT
BEGIN:VTIMEZONE
TZID:America/Kentucky/Louisville
X-LIC-LOCATION:America/Kentucky/Louisville
BEGIN:DAYLIGHT
DTSTART:20250309T030000
TZOFFSETFROM:-0500
TZOFFSETTO:-0400
TZNAME:EDT
END:DAYLIGHT
END:VTIMEZONE
END:VCALENDAR