BEGIN:VCALENDAR
VERSION:2.0
PRODID:-//wp-events-plugin.com//7.2.3.1//EN
BEGIN:VEVENT
UID:9078@visitlebanonky.com
DTSTART:20260530T160000Z
DTEND:20260530T200000Z
DTSTAMP:20260319T044121Z
URL:https://visitlebanonky.com/events/marion-county-fairgrounds-open-sheep
 -show/
SUMMARY:Marion County Fairgrounds Open Sheep Show
DESCRIPTION:Follow the Marion County Fairgrounds on Facebook HERE
ATTACH;FMTTYPE=image/jpeg:https://visitlebanonky.com/wp-content/uploads/20
 26/03/open-sheep-show.jpg
CATEGORIES:Community
LOCATION:Marion County Fairgrounds\, 700 Fairgrounds Road\, Lebanon\, Kentu
 cky\, 40033\, Marion County\, United States
GEO:37.563672;-85.238002
X-APPLE-STRUCTURED-LOCATION;VALUE=URI;X-ADDRESS=700 Fairgrounds Road\, Leba
 non\, Kentucky\, 40033\, Marion County\, United States;X-APPLE-RADIUS=100;
 X-TITLE=Marion County Fairgrounds:geo:37.563672,-85.238002
END:VEVENT
END:VCALENDAR