BEGIN:VCALENDAR
VERSION:2.0
PRODID:-//wp-events-plugin.com//7.2.3.1//EN
BEGIN:VEVENT
UID:7873@visitlebanonky.com
DTSTART;TZID=America/Kentucky/Louisville:20250813T170000
DTEND;TZID=America/Kentucky/Louisville:20250813T190000
DTSTAMP:20250811T185128Z
URL:https://visitlebanonky.com/events/marion-county-little-league-fall-bal
 l-signups-2/
SUMMARY:Marion County Little League Fall Ball Signups
DESCRIPTION:
ATTACH;FMTTYPE=image/jpeg:https://visitlebanonky.com/wp-content/uploads/20
 25/08/fall-ball.jpg
CATEGORIES:Community
LOCATION:Graham Memorial Park - Back Concessions\, 701 Park Drive\, Lebanon
 \, KY\, 40033\, Marion County\, United States
X-APPLE-STRUCTURED-LOCATION;VALUE=URI;X-ADDRESS=701 Park Drive\, Lebanon\, 
 KY\, 40033\, Marion County\, United States;X-APPLE-RADIUS=100;X-TITLE=Grah
 am Memorial Park - Back Concessions:geo:0,0
END:VEVENT
BEGIN:VTIMEZONE
TZID:America/Kentucky/Louisville
X-LIC-LOCATION:America/Kentucky/Louisville
BEGIN:DAYLIGHT
DTSTART:20250309T030000
TZOFFSETFROM:-0500
TZOFFSETTO:-0400
TZNAME:EDT
END:DAYLIGHT
END:VTIMEZONE
END:VCALENDAR