BEGIN:VCALENDAR
VERSION:2.0
PRODID:-//wp-events-plugin.com//7.2.3.1//EN
BEGIN:VEVENT
UID:7563@visitlebanonky.com
DTSTART;TZID=America/Kentucky/Louisville:20250501T000000
DTEND;TZID=America/Kentucky/Louisville:20250529T000000
DTSTAMP:20250428T231022Z
URL:https://visitlebanonky.com/events/marion-county-public-library-bookmob
 ile-may-schedule/
SUMMARY:Marion County Public Library Bookmobile May Schedule
DESCRIPTION:Follow the Marion County Public Library on Facebook at https://
 www.facebook.com/MarionCoPublicLibrary
ATTACH;FMTTYPE=image/jpeg:https://visitlebanonky.com/wp-content/uploads/20
 25/04/may-bookmobile.jpg
CATEGORIES:Community
END:VEVENT
BEGIN:VTIMEZONE
TZID:America/Kentucky/Louisville
X-LIC-LOCATION:America/Kentucky/Louisville
BEGIN:DAYLIGHT
DTSTART:20250309T030000
TZOFFSETFROM:-0500
TZOFFSETTO:-0400
TZNAME:EDT
END:DAYLIGHT
END:VTIMEZONE
END:VCALENDAR