BEGIN:VCALENDAR
VERSION:2.0
PRODID:-//wp-events-plugin.com//7.2.3.1//EN
BEGIN:VEVENT
UID:8076@visitlebanonky.com
DTSTART;TZID=America/Kentucky/Louisville:20251001T000000
DTEND;TZID=America/Kentucky/Louisville:20251031T000000
DTSTAMP:20251001T235728Z
URL:https://visitlebanonky.com/events/marion-county-public-library-bookmob
 ile-october-schedule/
SUMMARY:Marion County Public Library Bookmobile October Schedule
DESCRIPTION:From their Facebook page https://www.facebook.com/MarionCoPubli
 cLibrary\n \nBookmobile Services Sign-Up:\nhttps://forms.gle/YiaAeBCW5yMud
 Kyh6\n\n
ATTACH;FMTTYPE=image/jpeg:https://visitlebanonky.com/wp-content/uploads/20
 25/10/oct-bookmobile.jpg
CATEGORIES:Community
END:VEVENT
BEGIN:VTIMEZONE
TZID:America/Kentucky/Louisville
X-LIC-LOCATION:America/Kentucky/Louisville
BEGIN:DAYLIGHT
DTSTART:20250309T030000
TZOFFSETFROM:-0500
TZOFFSETTO:-0400
TZNAME:EDT
END:DAYLIGHT
END:VTIMEZONE
END:VCALENDAR