BEGIN:VCALENDAR
VERSION:2.0
PRODID:-//wp-events-plugin.com//7.2.3.1//EN
BEGIN:VEVENT
UID:8187@visitlebanonky.com
DTSTART;TZID=America/Kentucky/Louisville:20251105T090000
DTEND;TZID=America/Kentucky/Louisville:20270102T180000
DTSTAMP:20260331T174811Z
URL:https://visitlebanonky.com/events/marion-county-public-library-bookmob
 ile-schedule/
SUMMARY:Marion County Public Library Bookmobile Schedule
DESCRIPTION:For complete details on things happening at the library:\nFollo
 w on Facebook HERE  \nSign up for the emailed newsletter HERE   \n\nSome e
 vents require pre registration.\n\nCheck out the Loretto branch of the Mar
 ion County Public Library located at 255 School Drive in Loretto\, KY. Lor
 etto hours are Monday\, Wednesday and Thursday from 10 a.m. till 5:30 p.m.
  and every 4th Friday from 10 a.m. till 2 p.m. Follow Loretto on Facebook 
 HERE \n\nWebsite Event Page HERE\nBookmobile Services Sign-Up HERE\n \n \n
  \n 
ATTACH;FMTTYPE=image/jpeg:https://visitlebanonky.com/wp-content/uploads/20
 25/11/bookmobile-3.jpg
CATEGORIES:Community
LOCATION:Marion County Public Library\, 201 E. Main Street\, Lebanon\, KY/M
 arion\, 40033\, Marion County\, United States
X-APPLE-STRUCTURED-LOCATION;VALUE=URI;X-ADDRESS=201 E. Main Street\, Lebano
 n\, KY/Marion\, 40033\, Marion County\, United States;X-APPLE-RADIUS=100;X
 -TITLE=Marion County Public Library:geo:0,0
END:VEVENT
BEGIN:VTIMEZONE
TZID:America/Kentucky/Louisville
X-LIC-LOCATION:America/Kentucky/Louisville
BEGIN:STANDARD
DTSTART:20251102T010000
TZOFFSETFROM:-0400
TZOFFSETTO:-0500
TZNAME:EST
END:STANDARD
BEGIN:DAYLIGHT
DTSTART:20260308T030000
TZOFFSETFROM:-0500
TZOFFSETTO:-0400
TZNAME:EDT
END:DAYLIGHT
BEGIN:STANDARD
DTSTART:20261101T010000
TZOFFSETFROM:-0400
TZOFFSETTO:-0500
TZNAME:EST
END:STANDARD
END:VTIMEZONE
END:VCALENDAR