BEGIN:VCALENDAR
VERSION:2.0
PRODID:-//wp-events-plugin.com//7.2.3.1//EN
BEGIN:VEVENT
UID:8440@visitlebanonky.com
DTSTART;TZID=America/Kentucky/Louisville:20251209T170000
DTEND;TZID=America/Kentucky/Louisville:20251209T193000
DTSTAMP:20251209T013700Z
URL:https://visitlebanonky.com/events/marion-county-republican-party-meeti
 ng/
SUMMARY:Marion County Republican Party Meeting
DESCRIPTION:Marion County Kentucky Republican Party\nYou can follow the par
 ty on Facebook HERE\n \n🚨DECEMBER MEETING🚨\nOur regular monthly meet
 ing will be held Tuesday\, December 9th at Marion County Event Center and 
 Sportsplex.\n🚪 Doors open at 5:00\n🤝Meeting starts at 6:00\n🔈Spea
 ker: Keith Brock\, Local EPA Administrator\n🐘Special Guest: Rock Johnso
 n\, Lincoln County Republican Party Chairman\nPlease join us!!!\nAnd remem
 ber\, Dec 31 is the last day to change your party affiliation to ensure yo
 ur vote in the 2026 Republican primary! Click the link below and update yo
 ur registration.  It takes less than a minute. \nHome Page - Kentucky Stat
 e Board of Elections 
ATTACH;FMTTYPE=image/jpeg:https://visitlebanonky.com/wp-content/uploads/20
 25/12/republican.jpg
CATEGORIES:Community
LOCATION:Marion County Event Center and Sportsplex\, 101 Independence Drive
  \, LEBANON\, KY\, 40033\, Marion County\, United States
X-APPLE-STRUCTURED-LOCATION;VALUE=URI;X-ADDRESS=101 Independence Drive \, L
 EBANON\, KY\, 40033\, Marion County\, United States;X-APPLE-RADIUS=100;X-T
 ITLE=Marion County Event Center and Sportsplex:geo:0,0
END:VEVENT
BEGIN:VTIMEZONE
TZID:America/Kentucky/Louisville
X-LIC-LOCATION:America/Kentucky/Louisville
BEGIN:STANDARD
DTSTART:20251102T010000
TZOFFSETFROM:-0400
TZOFFSETTO:-0500
TZNAME:EST
END:STANDARD
END:VTIMEZONE
END:VCALENDAR