BEGIN:VCALENDAR
VERSION:2.0
PRODID:-//wp-events-plugin.com//7.2.3.1//EN
BEGIN:VEVENT
UID:9065@visitlebanonky.com
DTSTART;TZID=America/Kentucky/Louisville:20260425T100000
DTEND;TZID=America/Kentucky/Louisville:20260425T130000
DTSTAMP:20260317T181006Z
URL:https://visitlebanonky.com/events/marion-county-sheriffs-office-family
 -fun-day/
SUMMARY:Marion County Sheriff's Office Family Fun Day
DESCRIPTION:You can find the Marion County Sheriff's Office on Facebook HER
 E
ATTACH;FMTTYPE=image/jpeg:https://visitlebanonky.com/wp-content/uploads/20
 26/03/family-fun-day.jpg
CATEGORIES:Community
LOCATION:Johnson Field Behind Centre Square\, 237 North Spalding Avenue\, L
 ebanon\, Kentucky\, 40033\, Marion County\, United States
GEO:37.572313;-85.253754
X-APPLE-STRUCTURED-LOCATION;VALUE=URI;X-ADDRESS=237 North Spalding Avenue\,
  Lebanon\, Kentucky\, 40033\, Marion County\, United States;X-APPLE-RADIUS
 =100;X-TITLE=Johnson Field Behind Centre Square:geo:37.572313,-85.253754
END:VEVENT
BEGIN:VTIMEZONE
TZID:America/Kentucky/Louisville
X-LIC-LOCATION:America/Kentucky/Louisville
BEGIN:DAYLIGHT
DTSTART:20260308T030000
TZOFFSETFROM:-0500
TZOFFSETTO:-0400
TZNAME:EDT
END:DAYLIGHT
END:VTIMEZONE
END:VCALENDAR