BEGIN:VCALENDAR
VERSION:2.0
PRODID:-//wp-events-plugin.com//7.2.3.1//EN
BEGIN:VEVENT
UID:8083@visitlebanonky.com
DTSTART;TZID=America/Kentucky/Louisville:20251021T130000
DTEND;TZID=America/Kentucky/Louisville:20251021T153000
DTSTAMP:20251008T184721Z
URL:https://visitlebanonky.com/events/marion-county-to-host-virtual-job-fa
 irs-on-october-7-and-21/
SUMMARY:Marion County to Host Virtual Job Fairs on October 7 and 21
DESCRIPTION:Marion County residents looking for new career opportunities ha
 ve two chances this month to connect with local employers. The Lincoln Tra
 il Career Center will host virtual job fairs on Tuesday\, October 7 and Tu
 esday\, October 21\, running from 1:00 PM to 3:30 PM.\nJob seekers can reg
 ister in advance online at LTCareerCenter.org/jobfair\nFor more informatio
 n\, contact Terri Thomas at (270) 692-6870 or via email at terri.thomas@ma
 rioncountyky.gov\nThese events offer a convenient way for residents to exp
 lore employment opportunities without leaving home.
ATTACH;FMTTYPE=image/jpeg:https://visitlebanonky.com/wp-content/uploads/20
 25/10/virtual-job-fair.jpg
CATEGORIES:Community
END:VEVENT
BEGIN:VTIMEZONE
TZID:America/Kentucky/Louisville
X-LIC-LOCATION:America/Kentucky/Louisville
BEGIN:DAYLIGHT
DTSTART:20250309T030000
TZOFFSETFROM:-0500
TZOFFSETTO:-0400
TZNAME:EDT
END:DAYLIGHT
END:VTIMEZONE
END:VCALENDAR