BEGIN:VCALENDAR
VERSION:2.0
PRODID:-//wp-events-plugin.com//7.2.3.1//EN
BEGIN:VEVENT
UID:9177@visitlebanonky.com
DTSTART;TZID=America/Kentucky/Louisville:20260508T170000
DTEND;TZID=America/Kentucky/Louisville:20260529T200000
DTSTAMP:20260410T192753Z
URL:https://visitlebanonky.com/events/marion-county-youth-football-signups
 -7/
SUMMARY:Marion County Youth Football Signups
DESCRIPTION:🚨🏈 ATTENTION MARION COUNTY YOUTH! 🏈🚨\nReady to hit 
 the field? Youth Football Sign-Ups are HERE!\n📅 May 8\, 15\, 22 & 29\n
 📍 Centre Square\n⏰ 5:00–8:00 PM\n💲 Registration: $60\nDon’t mi
 ss your chance to be part of the action this season! 💪🔥\n📞 Questi
 ons? Call Brian Blanford at 502-827-0470 \nYou can find Marion County Yout
 h Football on Facebook HERE
ATTACH;FMTTYPE=image/jpeg:https://visitlebanonky.com/wp-content/uploads/20
 26/04/FOOTBALL.jpg
CATEGORIES:Community
LOCATION:Johnson Field Behind Centre Square\, 237 North Spalding Avenue\, L
 ebanon\, Kentucky\, 40033\, Marion County\, United States
GEO:37.572313;-85.253754
X-APPLE-STRUCTURED-LOCATION;VALUE=URI;X-ADDRESS=237 North Spalding Avenue\,
  Lebanon\, Kentucky\, 40033\, Marion County\, United States;X-APPLE-RADIUS
 =100;X-TITLE=Johnson Field Behind Centre Square:geo:37.572313,-85.253754
END:VEVENT
BEGIN:VTIMEZONE
TZID:America/Kentucky/Louisville
X-LIC-LOCATION:America/Kentucky/Louisville
BEGIN:DAYLIGHT
DTSTART:20260308T030000
TZOFFSETFROM:-0500
TZOFFSETTO:-0400
TZNAME:EDT
END:DAYLIGHT
END:VTIMEZONE
END:VCALENDAR