BEGIN:VCALENDAR
VERSION:2.0
PRODID:-//wp-events-plugin.com//7.2.3.1//EN
BEGIN:VEVENT
UID:7613@visitlebanonky.com
DTSTART;TZID=America/Kentucky/Louisville:20250607T000000
DTEND;TZID=America/Kentucky/Louisville:20250607T000000
DTSTAMP:20250520T031755Z
URL:https://visitlebanonky.com/events/marshalls-lemonade-stand-for-crusade
 -for-children/
SUMMARY:Marshall's Lemonade Stand for Crusade For Children
DESCRIPTION:🍋Save the date!🍋\nWhat: Marshall’s annual lemonade stan
 d\nWhen: Saturday\, June 7 10am-TBD\nWhere: Lebanon Fire Dept\nWhy: to sup
 port Crusade for Children\, of course!\nHelp Marshall exceed his goal of $
 2000\nWe’ll gladly accept cash\, checks\, venmo\, paypal
ATTACH;FMTTYPE=image/jpeg:https://visitlebanonky.com/wp-content/uploads/20
 25/05/lemonade.jpg
CATEGORIES:Community
LOCATION:Lebanon Fire Department\, 357 E Main St\, Lebanon\, Kentucky\, 400
 33\, Marion County\, United States
GEO:37.571883;-85.246984
X-APPLE-STRUCTURED-LOCATION;VALUE=URI;X-ADDRESS=357 E Main St\, Lebanon\, K
 entucky\, 40033\, Marion County\, United States;X-APPLE-RADIUS=100;X-TITLE
 =Lebanon Fire Department:geo:37.571883,-85.246984
END:VEVENT
BEGIN:VTIMEZONE
TZID:America/Kentucky/Louisville
X-LIC-LOCATION:America/Kentucky/Louisville
BEGIN:DAYLIGHT
DTSTART:20250309T030000
TZOFFSETFROM:-0500
TZOFFSETTO:-0400
TZNAME:EDT
END:DAYLIGHT
END:VTIMEZONE
END:VCALENDAR