BEGIN:VCALENDAR
VERSION:2.0
PRODID:-//wp-events-plugin.com//7.2.3.1//EN
BEGIN:VEVENT
UID:8185@visitlebanonky.com
DTSTART;TZID=America/Kentucky/Louisville:20251118T000000
DTEND;TZID=America/Kentucky/Louisville:20251118T000000
DTSTAMP:20251105T054350Z
URL:https://visitlebanonky.com/events/mc-4-h-ham-project-meeting/
SUMMARY:MC 4-H Ham Project Meeting
DESCRIPTION:If your child wants to participate in the Marion County 4-H Cou
 ntry Ham Project\, please attend the sign up meeting with your child on Tu
 esday\, November 18 at 6 p.m. You can follow the extension office on Faceb
 ook HERE
ATTACH;FMTTYPE=image/jpeg:https://visitlebanonky.com/wp-content/uploads/20
 25/11/4H-ham-meeting.jpg
CATEGORIES:Community
LOCATION:Marion County Cooperative Extension Office\, 416 Fairgrounds Road\
 , Lebanon\, KY/Marion\, 40033\, United States
X-APPLE-STRUCTURED-LOCATION;VALUE=URI;X-ADDRESS=416 Fairgrounds Road\, Leba
 non\, KY/Marion\, 40033\, United States;X-APPLE-RADIUS=100;X-TITLE=Marion 
 County Cooperative Extension Office:geo:0,0
END:VEVENT
BEGIN:VTIMEZONE
TZID:America/Kentucky/Louisville
X-LIC-LOCATION:America/Kentucky/Louisville
BEGIN:STANDARD
DTSTART:20251102T010000
TZOFFSETFROM:-0400
TZOFFSETTO:-0500
TZNAME:EST
END:STANDARD
END:VTIMEZONE
END:VCALENDAR