BEGIN:VCALENDAR
VERSION:2.0
PRODID:-//wp-events-plugin.com//7.2.3.1//EN
BEGIN:VEVENT
UID:6587@visitlebanonky.com
DTSTART;TZID=America/Kentucky/Louisville:20250125T080000
DTEND;TZID=America/Kentucky/Louisville:20250125T090000
DTSTAMP:20241203T211559Z
URL:https://visitlebanonky.com/events/mc-farm-bureau-legislative-coffee/
SUMMARY:MC Farm Bureau Legislative Coffee
DESCRIPTION:FRANKFORT\, KY. —Sen. Jimmy Higdon has announced the schedule
  for his annual series of Legislative Coffee events and the 23rd Annual Jo
 sephine Nuckols Legislative Prayer Breakfast. These events allow constitue
 nts to hear updates\, ask questions\, and engage with Higdon and state rep
 resentatives before the 2025 Legislative Session.\n\nThe Marion County Far
 m Bureau Legislative Coffee is planned for 8 a.m. Saturday\, January 25\, 
 at 690 Metts Drive in Lebanon. Rep. Sarge Pollock will be featured\, and t
 he Marion County Farm Bureau is sponsoring the event. \n\nThese events are
  open to the public\, and all constituents are encouraged to attend. Higdo
 n and his colleagues will be available for questions and to discuss legisl
 ative priorities and focus heading into the new legislative session. \n\n 
CATEGORIES:Community
LOCATION:MC Farm Bureau\, 690 Metts Drive\, Lebanon\, Kentucky\, 40033\, Ma
 rion County\, United States
GEO:37.554236;-85.268232
X-APPLE-STRUCTURED-LOCATION;VALUE=URI;X-ADDRESS=690 Metts Drive\, Lebanon\,
  Kentucky\, 40033\, Marion County\, United States;X-APPLE-RADIUS=100;X-TIT
 LE=MC Farm Bureau:geo:37.554236,-85.268232
END:VEVENT
BEGIN:VTIMEZONE
TZID:America/Kentucky/Louisville
X-LIC-LOCATION:America/Kentucky/Louisville
BEGIN:STANDARD
DTSTART:20241103T010000
TZOFFSETFROM:-0400
TZOFFSETTO:-0500
TZNAME:EST
END:STANDARD
END:VTIMEZONE
END:VCALENDAR