BEGIN:VCALENDAR
VERSION:2.0
PRODID:-//wp-events-plugin.com//7.2.3.1//EN
BEGIN:VEVENT
UID:7627@visitlebanonky.com
DTSTART;TZID=America/Kentucky/Louisville:20250627T000000
DTEND;TZID=America/Kentucky/Louisville:20250627T000000
DTSTAMP:20250529T032818Z
URL:https://visitlebanonky.com/events/mc-frysc-summer-fun/
SUMMARY:MC FRYSC Summer Fun
DESCRIPTION:Make sure you check out these summer activities planned by our 
 FRYSC coordinators and open to all Marion County families!
ATTACH;FMTTYPE=image/jpeg:https://visitlebanonky.com/wp-content/uploads/20
 25/05/summer-fun.jpg
CATEGORIES:Community
LOCATION:Graham Memorial Park\, 525 Graham Memorial Drive\, Lebanon\, Kentu
 cky\, 40033\, Marion County\, United States
GEO:37.562057;-85.249356
X-APPLE-STRUCTURED-LOCATION;VALUE=URI;X-ADDRESS=525 Graham Memorial Drive\,
  Lebanon\, Kentucky\, 40033\, Marion County\, United States;X-APPLE-RADIUS
 =100;X-TITLE=Graham Memorial Park:geo:37.562057,-85.249356
END:VEVENT
BEGIN:VTIMEZONE
TZID:America/Kentucky/Louisville
X-LIC-LOCATION:America/Kentucky/Louisville
BEGIN:DAYLIGHT
DTSTART:20250309T030000
TZOFFSETFROM:-0500
TZOFFSETTO:-0400
TZNAME:EDT
END:DAYLIGHT
END:VTIMEZONE
END:VCALENDAR