BEGIN:VCALENDAR
VERSION:2.0
PRODID:-//wp-events-plugin.com//7.2.3.1//EN
BEGIN:VEVENT
UID:9108@visitlebanonky.com
DTSTART;TZID=America/Kentucky/Louisville:20260328T000000
DTEND;TZID=America/Kentucky/Louisville:20260329T000000
DTSTAMP:20260324T184534Z
URL:https://visitlebanonky.com/events/mchs-2026-project-graduation-roadblo
 ck/
SUMMARY:MCHS 2026 Project Graduation Roadblock
DESCRIPTION:Project Graduation Roadblock This Weekend!  \nThis weekend\, ou
 r seniors and their friends and family will be out in the community for ou
 r annual roadblock fundraiser!\nWhat is Project Graduation? It’s a safe\
 , fun\, and substance-free celebration held the night of graduation to giv
 e our seniors one last unforgettable night together.\nWe need YOUR support
 ! If you’re out and about\, please consider donating. Every dollar helps
  us create an amazing experience for our Class of 2026 seniors!\nSafety re
 minder:\nPlease drive slowly and use caution as students\, parents\, and v
 olunteers will be working at local intersections.\nThank you for helping u
 s keep our seniors safe while making their big night extra special!  \n 
ATTACH;FMTTYPE=image/jpeg:https://visitlebanonky.com/wp-content/uploads/20
 26/03/road-block.jpg
CATEGORIES:Community
LOCATION:Downtown Lebanon\, Main Street\, Lebanon\, KY/ Marion\, 40033\, Ma
 rion County\, United States
X-APPLE-STRUCTURED-LOCATION;VALUE=URI;X-ADDRESS=Main Street\, Lebanon\, KY/
  Marion\, 40033\, Marion County\, United States;X-APPLE-RADIUS=100;X-TITLE
 =Downtown Lebanon:geo:0,0
END:VEVENT
BEGIN:VTIMEZONE
TZID:America/Kentucky/Louisville
X-LIC-LOCATION:America/Kentucky/Louisville
BEGIN:DAYLIGHT
DTSTART:20260308T030000
TZOFFSETFROM:-0500
TZOFFSETTO:-0400
TZNAME:EDT
END:DAYLIGHT
END:VTIMEZONE
END:VCALENDAR