BEGIN:VCALENDAR
VERSION:2.0
PRODID:-//wp-events-plugin.com//7.2.3.1//EN
BEGIN:VEVENT
UID:9107@visitlebanonky.com
DTSTART;TZID=America/Kentucky/Louisville:20260523T000000
DTEND;TZID=America/Kentucky/Louisville:20260523T000000
DTSTAMP:20260324T184631Z
URL:https://visitlebanonky.com/events/mchs-2026-project-graduation/
SUMMARY:MCHS 2026 Project Graduation
DESCRIPTION:PROJECT GRADUATION 2026 IS COMING! \nSeniors\, it’s YOUR time
  to celebrate! Get ready for a night that’s fun\, safe\, and completely 
 unforgettable.\nMark your calendars: May 23\nLocation: To be determined…
  announcement coming VERY soon.\nWe’ve got an amazing night in the works
  just for you—games\, food\, prizes\, and memories you won’t want to m
 iss! \nHelp us spread the word! Share this post so every senior knows what
 ’s coming!\nMore details dropping soon.
ATTACH;FMTTYPE=image/jpeg:https://visitlebanonky.com/wp-content/uploads/20
 26/03/project-graduation.jpg
CATEGORIES:Community
END:VEVENT
BEGIN:VTIMEZONE
TZID:America/Kentucky/Louisville
X-LIC-LOCATION:America/Kentucky/Louisville
BEGIN:DAYLIGHT
DTSTART:20260308T030000
TZOFFSETFROM:-0500
TZOFFSETTO:-0400
TZNAME:EDT
END:DAYLIGHT
END:VTIMEZONE
END:VCALENDAR