BEGIN:VCALENDAR
VERSION:2.0
PRODID:-//wp-events-plugin.com//7.2.3.1//EN
BEGIN:VEVENT
UID:5976@visitlebanonky.com
DTSTART;TZID=America/Kentucky/Louisville:20240813T000000
DTEND;TZID=America/Kentucky/Louisville:20241003T000000
DTSTAMP:20240809T183038Z
URL:https://visitlebanonky.com/events/mchs-boys-soccer-schedule-of-games/
SUMMARY:MCHS Boys Soccer Schedule of Games
DESCRIPTION:Find them on Facebook at https://www.facebook.com/MCKnightsSocc
 er\n
ATTACH;FMTTYPE=image/jpeg:https://visitlebanonky.com/wp-content/uploads/20
 24/08/knights-soccer.jpg
CATEGORIES:Community
END:VEVENT
BEGIN:VTIMEZONE
TZID:America/Kentucky/Louisville
X-LIC-LOCATION:America/Kentucky/Louisville
BEGIN:DAYLIGHT
DTSTART:20240310T030000
TZOFFSETFROM:-0500
TZOFFSETTO:-0400
TZNAME:EDT
END:DAYLIGHT
END:VTIMEZONE
END:VCALENDAR