BEGIN:VCALENDAR
VERSION:2.0
PRODID:-//wp-events-plugin.com//7.2.3.1//EN
BEGIN:VEVENT
UID:8138@visitlebanonky.com
DTSTART;TZID=America/Kentucky/Louisville:20251024T183000
DTEND;TZID=America/Kentucky/Louisville:20251024T200000
DTSTAMP:20251021T234444Z
URL:https://visitlebanonky.com/events/mchs-fitness-center-open-house/
SUMMARY:MCHS Fitness Center Open House
DESCRIPTION:You're invited to check out the renovated MCHS Fitness Center t
 his Friday\, October 24 before the MCHS football game! The fitness center 
 will be open to the public starting at 6:30 pm.
ATTACH;FMTTYPE=image/jpeg:https://visitlebanonky.com/wp-content/uploads/20
 25/10/open-house.jpg
CATEGORIES:Community
LOCATION:Marion County High School Football Field\, 735 E. Main St.\, Leban
 on\, KY/Marion\, 40033\, Marion County\, United States
X-APPLE-STRUCTURED-LOCATION;VALUE=URI;X-ADDRESS=735 E. Main St.\, Lebanon\,
  KY/Marion\, 40033\, Marion County\, United States;X-APPLE-RADIUS=100;X-TI
 TLE=Marion County High School Football Field:geo:0,0
END:VEVENT
BEGIN:VTIMEZONE
TZID:America/Kentucky/Louisville
X-LIC-LOCATION:America/Kentucky/Louisville
BEGIN:DAYLIGHT
DTSTART:20250309T030000
TZOFFSETFROM:-0500
TZOFFSETTO:-0400
TZNAME:EDT
END:DAYLIGHT
END:VTIMEZONE
END:VCALENDAR