BEGIN:VCALENDAR
VERSION:2.0
PRODID:-//wp-events-plugin.com//7.2.3.1//EN
BEGIN:VEVENT
UID:9262@visitlebanonky.com
DTSTART;TZID=America/Kentucky/Louisville:20260522T180000
DTEND;TZID=America/Kentucky/Louisville:20260522T193000
DTSTAMP:20260423T204741Z
URL:https://visitlebanonky.com/events/mchs-hugh-c-spalding-academy-graduat
 ion/
SUMMARY:MCHS Hugh C. Spalding Academy Graduation
DESCRIPTION:Check with your graduate to see if a ticket is required.
ATTACH;FMTTYPE=image/jpeg:https://visitlebanonky.com/wp-content/uploads/20
 26/04/graduation.jpg
CATEGORIES:Community
LOCATION:MCHS Robey Dome\, 735 East Main Street\, Lebanon\, Kentucky\, 4003
 3\, Marion County\, United States
GEO:37.576944;-85.226257
X-APPLE-STRUCTURED-LOCATION;VALUE=URI;X-ADDRESS=735 East Main Street\, Leba
 non\, Kentucky\, 40033\, Marion County\, United States;X-APPLE-RADIUS=100;
 X-TITLE=MCHS Robey Dome:geo:37.576944,-85.226257
END:VEVENT
BEGIN:VTIMEZONE
TZID:America/Kentucky/Louisville
X-LIC-LOCATION:America/Kentucky/Louisville
BEGIN:DAYLIGHT
DTSTART:20260308T030000
TZOFFSETFROM:-0500
TZOFFSETTO:-0400
TZNAME:EDT
END:DAYLIGHT
END:VTIMEZONE
END:VCALENDAR