BEGIN:VCALENDAR
VERSION:2.0
PRODID:-//wp-events-plugin.com//7.2.3.1//EN
BEGIN:VEVENT
UID:7582@visitlebanonky.com
DTSTART;TZID=America/Kentucky/Louisville:20250505T000000
DTEND;TZID=America/Kentucky/Louisville:20250509T000000
DTSTAMP:20250508T010317Z
URL:https://visitlebanonky.com/events/mcps-elementary-art-show-at-mc-publi
 c-library/
SUMMARY:MCPS Elementary Art Show at MC Public Library
DESCRIPTION:Be sure to check out the MCPS Elementary Art Show. The art will
  be up to view all of next week. You won't want to miss it!
ATTACH;FMTTYPE=image/jpeg:https://visitlebanonky.com/wp-content/uploads/20
 25/05/elementary-art-show.jpg
CATEGORIES:Community
LOCATION:Marion County Public Library\, 201 E Main St\, Lebanon\, KY/Marion
 \, 40033\, Marion County\, United States
X-APPLE-STRUCTURED-LOCATION;VALUE=URI;X-ADDRESS=201 E Main St\, Lebanon\, K
 Y/Marion\, 40033\, Marion County\, United States;X-APPLE-RADIUS=100;X-TITL
 E=Marion County Public Library:geo:0,0
END:VEVENT
BEGIN:VTIMEZONE
TZID:America/Kentucky/Louisville
X-LIC-LOCATION:America/Kentucky/Louisville
BEGIN:DAYLIGHT
DTSTART:20250309T030000
TZOFFSETFROM:-0500
TZOFFSETTO:-0400
TZNAME:EDT
END:DAYLIGHT
END:VTIMEZONE
END:VCALENDAR