BEGIN:VCALENDAR
VERSION:2.0
PRODID:-//wp-events-plugin.com//7.2.3.1//EN
BEGIN:VEVENT
UID:7605@visitlebanonky.com
DTSTART;TZID=America/Kentucky/Louisville:20250525T140000
DTEND;TZID=America/Kentucky/Louisville:20250525T150000
DTSTAMP:20250516T185931Z
URL:https://visitlebanonky.com/events/memorial-day-services-at-lebanon-nat
 ional-cemetery/
SUMMARY:Memorial Day Services at Lebanon National Cemetery
DESCRIPTION:A Memorial Day service will be held on Sunday\, May 25 at 2:00 
 p.m. at the Lebanon National Cemetery. The guest speaker will be BG Brian 
 F. Wertzler. Anyone who would like to volunteer to place flags on the grav
 es should be at the cemetery at 8:00 a.m. on May 24. If you need further i
 nformation you can contact Otha Allen .
ATTACH;FMTTYPE=image/jpeg:https://visitlebanonky.com/wp-content/uploads/20
 25/05/leb-nat-cemetery.jpg
CATEGORIES:Official
LOCATION:Lebanon National Cemetery\, 20 State Highway 208\, Lebanon\, KY/Ma
 rion\, 40033\, Marion County\, United States
X-APPLE-STRUCTURED-LOCATION;VALUE=URI;X-ADDRESS=20 State Highway 208\, Leba
 non\, KY/Marion\, 40033\, Marion County\, United States;X-APPLE-RADIUS=100
 ;X-TITLE=Lebanon National Cemetery:geo:0,0
END:VEVENT
BEGIN:VTIMEZONE
TZID:America/Kentucky/Louisville
X-LIC-LOCATION:America/Kentucky/Louisville
BEGIN:DAYLIGHT
DTSTART:20250309T030000
TZOFFSETFROM:-0500
TZOFFSETTO:-0400
TZNAME:EDT
END:DAYLIGHT
END:VTIMEZONE
END:VCALENDAR