BEGIN:VCALENDAR
VERSION:2.0
PRODID:-//wp-events-plugin.com//7.2.3.1//EN
BEGIN:VEVENT
UID:8852@visitlebanonky.com
DTSTART;TZID=America/Kentucky/Louisville:20260209T000000
DTEND;TZID=America/Kentucky/Louisville:20260221T000000
DTSTAMP:20260209T165605Z
URL:https://visitlebanonky.com/events/mens-basketball-league-signups/
SUMMARY:Men's Basketball League Signups
DESCRIPTION:Marion County Event Center & Sportsplex\nMen's Basketball Leagu
 e\nStarts Sunday March 1\, 2026\nSign-Up at the Event Center or call Travi
 s at 270-940-0066\nMust have MCECS membership to join.\nYou can find this 
 and other events on their Facebook page HERE
ATTACH;FMTTYPE=image/jpeg:https://visitlebanonky.com/wp-content/uploads/20
 26/02/bball.jpg
CATEGORIES:Community
LOCATION:Marion County Event Center and Sportsplex\, 101 Independence Drive
  \, LEBANON\, KY\, 40033\, Marion County\, United States
X-APPLE-STRUCTURED-LOCATION;VALUE=URI;X-ADDRESS=101 Independence Drive \, L
 EBANON\, KY\, 40033\, Marion County\, United States;X-APPLE-RADIUS=100;X-T
 ITLE=Marion County Event Center and Sportsplex:geo:0,0
END:VEVENT
BEGIN:VTIMEZONE
TZID:America/Kentucky/Louisville
X-LIC-LOCATION:America/Kentucky/Louisville
BEGIN:STANDARD
DTSTART:20251102T010000
TZOFFSETFROM:-0400
TZOFFSETTO:-0500
TZNAME:EST
END:STANDARD
END:VTIMEZONE
END:VCALENDAR