BEGIN:VCALENDAR
VERSION:2.0
PRODID:-//wp-events-plugin.com//7.2.3.1//EN
BEGIN:VEVENT
UID:6328@visitlebanonky.com
DTSTART;TZID=America/Kentucky/Louisville:20241101T000000
DTEND;TZID=America/Kentucky/Louisville:20241102T000000
DTSTAMP:20241023T030836Z
URL:https://visitlebanonky.com/events/merry-on-main-at-the-shop/
SUMMARY:Merry on Main at The Shop
DESCRIPTION:Show your support for local small businesses this holiday seaso
 n!\nJoin us for the Christmas Open House in downtown Lebanon.\nVendors wil
 l be present from 5 pm to 8 pm on Friday\, November 1st\, and from 9 am to
  3 pm on Saturday\, November 2nd. 
ATTACH;FMTTYPE=image/jpeg:https://visitlebanonky.com/wp-content/uploads/20
 24/10/merry-on-main.jpg
CATEGORIES:Community
LOCATION:The Shop\, 235 West Main Street\, Lebanon\, Kentucky\, 40033\, Mar
 ion County\, United States
GEO:37.568953;-85.254993
X-APPLE-STRUCTURED-LOCATION;VALUE=URI;X-ADDRESS=235 West Main Street\, Leba
 non\, Kentucky\, 40033\, Marion County\, United States;X-APPLE-RADIUS=100;
 X-TITLE=The Shop:geo:37.568953,-85.254993
END:VEVENT
BEGIN:VTIMEZONE
TZID:America/Kentucky/Louisville
X-LIC-LOCATION:America/Kentucky/Louisville
BEGIN:DAYLIGHT
DTSTART:20240310T030000
TZOFFSETFROM:-0500
TZOFFSETTO:-0400
TZNAME:EDT
END:DAYLIGHT
END:VTIMEZONE
END:VCALENDAR