BEGIN:VCALENDAR
VERSION:2.0
PRODID:-//wp-events-plugin.com//7.2.3.1//EN
BEGIN:VEVENT
UID:9132@visitlebanonky.com
DTSTART;TZID=America/Kentucky/Louisville:20260424T193000
DTEND;TZID=America/Kentucky/Louisville:20260424T210000
DTSTAMP:20260401T203036Z
URL:https://visitlebanonky.com/events/mid-kentucky-chorus-this-land-is-you
 r-land/
SUMMARY:Mid Kentucky Chorus - This Land Is Your Land
DESCRIPTION:Let's celebrate our nation's birthday with a special concert of
  great American and Kentucky music. Mid Kentucky Chorus and Kentucky music
 ians will delight the senses April 24 & 26\, 2026.  \n\nTickets available 
 on line HERE or by calling 859-336-9416.  \n \nTickets: Adult $20\, Senior
 s (Age 65+) $17\, Students $10\n 
ATTACH;FMTTYPE=image/jpeg:https://visitlebanonky.com/wp-content/uploads/20
 26/03/mid-ky-chorus.jpg
CATEGORIES:Community
LOCATION:St Catharine Hall\, 2645 Bardstown Rd\, Springfield\, Kentucky\, 4
 0069\, Washington County\, United States
GEO:37.691007;-85.233052
X-APPLE-STRUCTURED-LOCATION;VALUE=URI;X-ADDRESS=2645 Bardstown Rd\, Springf
 ield\, Kentucky\, 40069\, Washington County\, United States;X-APPLE-RADIUS
 =100;X-TITLE=St Catharine Hall:geo:37.691007,-85.233052
END:VEVENT
BEGIN:VTIMEZONE
TZID:America/Kentucky/Louisville
X-LIC-LOCATION:America/Kentucky/Louisville
BEGIN:DAYLIGHT
DTSTART:20260308T030000
TZOFFSETFROM:-0500
TZOFFSETTO:-0400
TZNAME:EDT
END:DAYLIGHT
END:VTIMEZONE
END:VCALENDAR