BEGIN:VCALENDAR
VERSION:2.0
PRODID:-//wp-events-plugin.com//7.2.3.1//EN
BEGIN:VEVENT
UID:9105@visitlebanonky.com
DTSTART;TZID=America/Kentucky/Louisville:20260418T190000
DTEND;TZID=America/Kentucky/Louisville:20260418T210000
DTSTAMP:20260328T043455Z
URL:https://visitlebanonky.com/events/midnight-rain-at-the-blackbox-club-a
 t-centre-square/
SUMMARY:Midnight Rain at the Blackbox Club at Centre Square
DESCRIPTION:You can find this event on Facebook HERE\n🎸Midnight Rain Liv
 e at The Blackbox Club 🥁\nGet ready for an unforgettable night of music
  and nostalgia. Midnight Rain will take The Blackbox Club stage at Kentuck
 y Classic Arts\, bringing their unique blend of energy and soul to Central
  Kentucky.\nHailing from the heart of the Bluegrass State\, Midnight Rain 
 is known for their electrifying covers of classic rock\, Motown\, and coun
 try hits. From ZZ Top to John Cougar to The Rolling Stones\, their setlist
  is packed with timeless favorites that will have you singing along and da
 ncing all night.\nEach member of Midnight Rain boasts a rich musical histo
 ry\, having performed with top artists over the years. Together\, they cre
 ate a sound that’s both polished and passionate.\nWhen: April 18\, 2026\
 n📍Where: The Blackbox Club at Kentucky Classic Arts\nDon’t miss this 
 chance to experience the magic of live music in an intimate setting. Grab 
 your friends\, mark your calendar\, and join us for a night to remember!
ATTACH;FMTTYPE=image/jpeg:https://visitlebanonky.com/wp-content/uploads/20
 26/03/midnight-rain-1.jpg
CATEGORIES:Official
LOCATION:Kentucky Classic Arts Blackbox Club\, 237 North Spalding Avenue - 
 Downstairs\, Lebanon\, Kentucky\, 40033\, Marion County\, United States
X-APPLE-STRUCTURED-LOCATION;VALUE=URI;X-ADDRESS=237 North Spalding Avenue -
  Downstairs\, Lebanon\, Kentucky\, 40033\, Marion County\, United States;X
 -APPLE-RADIUS=100;X-TITLE=Kentucky Classic Arts Blackbox Club:geo:0,0
END:VEVENT
BEGIN:VTIMEZONE
TZID:America/Kentucky/Louisville
X-LIC-LOCATION:America/Kentucky/Louisville
BEGIN:DAYLIGHT
DTSTART:20260308T030000
TZOFFSETFROM:-0500
TZOFFSETTO:-0400
TZNAME:EDT
END:DAYLIGHT
END:VTIMEZONE
END:VCALENDAR